BEGIN:VCALENDAR
VERSION:2.0
PRODID:-//Tukios.com/
BEGIN:VEVENT
UID:89fc8cf4-0f32-4c33-9f1a-5b6329447fb9@www.hicksvaughnfh.com
DTSTAMP:20260422T213152Z
DTSTART:20260509T140000Z
DTEND:20260509T160000Z
SUMMARY:Celebration of Life
DESCRIPTION:
URL:https://www.hicksvaughnfh.com/obituaries/james-ray-jones
LOCATION: 647 N Main St  Monticello KY 42633
GEO:36.8371013;-84.8434857
END:VEVENT
END:VCALENDAR