BEGIN:VCALENDAR
VERSION:2.0
PRODID:-//Tukios.com/
BEGIN:VEVENT
UID:28859d7f-fe9f-40af-b77f-9b26ed8bbc2a@www.hicksvaughnfh.com
DTSTAMP:20260422T211548Z
DTSTART:20260425T170000Z
DTEND:20260425T180000Z
SUMMARY:Funeral Service
DESCRIPTION:
URL:https://www.hicksvaughnfh.com/obituaries/homer-corder-jr
LOCATION: 647 N Main St  Monticello KY 42633
GEO:36.8371013;-84.8434857
END:VEVENT
END:VCALENDAR