BEGIN:VCALENDAR
VERSION:2.0
PRODID:-//Tukios.com/
BEGIN:VEVENT
UID:14ba0a07-4893-4643-82d4-b8ca8f99c9fb@www.hicksvaughnfh.com
DTSTAMP:20260422T211729Z
DTSTART:20260425T120000Z
DTEND:20260425T170000Z
SUMMARY:Visitation
DESCRIPTION:
URL:https://www.hicksvaughnfh.com/obituaries/homer-corder-jr
LOCATION: 647 N Main St  Monticello KY 42633
GEO:36.8371013;-84.8434857
END:VEVENT
END:VCALENDAR