BEGIN:VCALENDAR
VERSION:2.0
PRODID:-//Tukios.com/
BEGIN:VEVENT
UID:4f514f99-5017-4c60-8bb5-74e871fb783c@www.hicksvaughnfh.com
DTSTAMP:20260422T211325Z
DTSTART:20260424T210000Z
DTEND:20260425T000000Z
SUMMARY:Visitation
DESCRIPTION:
URL:https://www.hicksvaughnfh.com/obituaries/homer-corder-jr
LOCATION: 647 N Main St  Monticello KY 42633
GEO:36.8371013;-84.8434857
END:VEVENT
END:VCALENDAR